Package: CeTF Version: 1.16.0 Command: rm -rf CeTF.buildbin-libdir && mkdir CeTF.buildbin-libdir && E:\biocbuild\bbs-3.19-bioc\R\bin\R.exe CMD INSTALL --build --library=CeTF.buildbin-libdir CeTF_1.16.0.tar.gz StartedAt: 2024-10-17 07:30:43 -0400 (Thu, 17 Oct 2024) EndedAt: 2024-10-17 07:31:53 -0400 (Thu, 17 Oct 2024) EllapsedTime: 69.7 seconds RetCode: 0 Status: OK PackageFile: CeTF_1.16.0.zip PackageFileSize: 3.249 MiB