Package: CeTF Version: 1.16.0 Command: chmod a+r CeTF -R && F:\biocbuild\bbs-3.19-bioc\R\bin\R.exe CMD build --keep-empty-dirs --no-resave-data CeTF StartedAt: 2024-06-26 17:43:12 -0400 (Wed, 26 Jun 2024) EndedAt: 2024-06-26 17:46:51 -0400 (Wed, 26 Jun 2024) EllapsedTime: 219.4 seconds RetCode: 0 Status: OK PackageFile: CeTF_1.16.0.tar.gz PackageFileSize: 2.843 MiB