Package: CeTF Version: 1.16.0 Command: /home/biocbuild/R/R-beta-2024-04-15_r86425/bin/R CMD check --install=check:CeTF.install-out.txt --library=/home/biocbuild/R/R-beta-2024-04-15_r86425/site-library --no-vignettes --timings CeTF_1.16.0.tar.gz StartedAt: 2024-05-09 05:43:01 -0000 (Thu, 09 May 2024) EndedAt: 2024-05-09 05:49:26 -0000 (Thu, 09 May 2024) EllapsedTime: 385.8 seconds RetCode: 0 Status: OK CheckDir: CeTF.Rcheck Warnings: 0