Package: CeTF Version: 1.16.0 Command: /Library/Frameworks/R.framework/Resources/bin/R CMD build --keep-empty-dirs --no-resave-data CeTF StartedAt: 2024-10-16 21:11:25 -0400 (Wed, 16 Oct 2024) EndedAt: 2024-10-16 21:14:46 -0400 (Wed, 16 Oct 2024) EllapsedTime: 201.5 seconds RetCode: 0 Status: OK PackageFile: CeTF_1.16.0.tar.gz PackageFileSize: 4.115 MiB