Package: CausalR Version: 1.36.0 Command: /home/biocbuild/bbs-3.19-bioc/R/bin/R CMD INSTALL CausalR StartedAt: 2024-10-16 15:50:51 -0400 (Wed, 16 Oct 2024) EndedAt: 2024-10-16 15:50:59 -0400 (Wed, 16 Oct 2024) EllapsedTime: 7.3 seconds RetCode: 0 Status: OK