Package: CausalR Version: 1.36.0 Command: /home/biocbuild/bbs-3.19-bioc/R/bin/R CMD check --install=check:CausalR.install-out.txt --library=/home/biocbuild/bbs-3.19-bioc/R/site-library --timings CausalR_1.36.0.tar.gz StartedAt: 2024-10-16 22:28:11 -0400 (Wed, 16 Oct 2024) EndedAt: 2024-10-16 22:29:01 -0400 (Wed, 16 Oct 2024) EllapsedTime: 50.1 seconds RetCode: 0 Status: OK CheckDir: CausalR.Rcheck Warnings: 0