Package: CausalR Version: 1.36.0 Command: /Library/Frameworks/R.framework/Resources/bin/R CMD check --install=check:CausalR.install-out.txt --library=/Library/Frameworks/R.framework/Resources/library --no-vignettes --timings CausalR_1.36.0.tar.gz StartedAt: 2024-10-17 02:17:32 -0400 (Thu, 17 Oct 2024) EndedAt: 2024-10-17 02:18:51 -0400 (Thu, 17 Oct 2024) EllapsedTime: 78.7 seconds RetCode: 0 Status: OK CheckDir: CausalR.Rcheck Warnings: 0