Package: CausalR Version: 1.36.0 Command: /Library/Frameworks/R.framework/Resources/bin/R CMD build --keep-empty-dirs --no-resave-data CausalR StartedAt: 2024-10-16 17:44:01 -0400 (Wed, 16 Oct 2024) EndedAt: 2024-10-16 17:45:42 -0400 (Wed, 16 Oct 2024) EllapsedTime: 101.0 seconds RetCode: 0 Status: OK PackageFile: CausalR_1.36.0.tar.gz PackageFileSize: 573.7 KiB