Package: CausalR Version: 1.36.0 Command: /Library/Frameworks/R.framework/Resources/bin/R CMD check --install=check:CausalR.install-out.txt --library=/Library/Frameworks/R.framework/Resources/library --no-vignettes --timings CausalR_1.36.0.tar.gz StartedAt: 2024-06-09 19:15:10 -0400 (Sun, 09 Jun 2024) EndedAt: 2024-06-09 19:15:51 -0400 (Sun, 09 Jun 2024) EllapsedTime: 40.9 seconds RetCode: 0 Status: OK CheckDir: CausalR.Rcheck Warnings: 0