Package: CausalR Version: 1.36.0 Command: /Library/Frameworks/R.framework/Resources/bin/R CMD build --keep-empty-dirs --no-resave-data CausalR StartedAt: 2024-06-09 16:05:50 -0400 (Sun, 09 Jun 2024) EndedAt: 2024-06-09 16:06:45 -0400 (Sun, 09 Jun 2024) EllapsedTime: 55.0 seconds RetCode: 0 Status: OK PackageFile: CausalR_1.36.0.tar.gz PackageFileSize: 572.9 KiB