Package: CausalR Version: 1.36.0 Command: /home/biocbuild/R/R-beta-2024-04-15_r86425/bin/R CMD check --install=check:CausalR.install-out.txt --library=/home/biocbuild/R/R-beta-2024-04-15_r86425/site-library --no-vignettes --timings CausalR_1.36.0.tar.gz StartedAt: 2024-05-09 05:34:21 -0000 (Thu, 09 May 2024) EndedAt: 2024-05-09 05:34:54 -0000 (Thu, 09 May 2024) EllapsedTime: 33.0 seconds RetCode: 0 Status: OK CheckDir: CausalR.Rcheck Warnings: 0