Package: CausalR Version: 1.36.0 Command: /home/biocbuild/R/R-beta-2024-04-15_r86425/bin/R CMD build --keep-empty-dirs --no-resave-data CausalR StartedAt: 2024-05-08 23:04:59 -0000 (Wed, 08 May 2024) EndedAt: 2024-05-08 23:05:28 -0000 (Wed, 08 May 2024) EllapsedTime: 29.0 seconds RetCode: 0 Status: OK PackageFile: CausalR_1.36.0.tar.gz PackageFileSize: 560.9 KiB