Package: Category Version: 2.70.0 Command: chmod a+r Category -R && F:\biocbuild\bbs-3.19-bioc\R\bin\R.exe CMD build --keep-empty-dirs --no-resave-data Category StartedAt: 2024-06-26 17:37:40 -0400 (Wed, 26 Jun 2024) EndedAt: 2024-06-26 17:39:35 -0400 (Wed, 26 Jun 2024) EllapsedTime: 115.5 seconds RetCode: 0 Status: OK PackageFile: Category_2.70.0.tar.gz PackageFileSize: 864.2 KiB