Package: Category Version: 2.70.0 Command: rm -rf Category.buildbin-libdir && mkdir Category.buildbin-libdir && F:\biocbuild\bbs-3.19-bioc\R\bin\R.exe CMD INSTALL --build --library=Category.buildbin-libdir Category_2.70.0.tar.gz StartedAt: 2024-06-27 07:56:51 -0400 (Thu, 27 Jun 2024) EndedAt: 2024-06-27 07:57:35 -0400 (Thu, 27 Jun 2024) EllapsedTime: 44.1 seconds RetCode: 0 Status: OK PackageFile: Category_2.70.0.zip PackageFileSize: 1.405 MiB