Package: Category Version: 2.70.0 Command: /home/biocbuild/bbs-3.19-bioc/R/bin/R CMD check --install=check:Category.install-out.txt --library=/home/biocbuild/bbs-3.19-bioc/R/site-library --timings Category_2.70.0.tar.gz StartedAt: 2024-10-16 22:27:37 -0400 (Wed, 16 Oct 2024) EndedAt: 2024-10-16 22:32:09 -0400 (Wed, 16 Oct 2024) EllapsedTime: 272.6 seconds RetCode: 0 Status: OK CheckDir: Category.Rcheck Warnings: 0