Package: Category Version: 2.70.0 Command: /home/biocbuild/bbs-3.19-bioc/R/bin/R CMD build --keep-empty-dirs --no-resave-data Category StartedAt: 2024-10-16 17:30:07 -0400 (Wed, 16 Oct 2024) EndedAt: 2024-10-16 17:31:26 -0400 (Wed, 16 Oct 2024) EllapsedTime: 78.1 seconds RetCode: 0 Status: OK PackageFile: Category_2.70.0.tar.gz PackageFileSize: 861.4 KiB