Package: CardinalIO Version: 1.2.1 Command: E:\biocbuild\bbs-3.19-bioc\R\bin\R.exe CMD INSTALL CardinalIO StartedAt: 2024-10-16 16:37:29 -0400 (Wed, 16 Oct 2024) EndedAt: 2024-10-16 16:37:59 -0400 (Wed, 16 Oct 2024) EllapsedTime: 30.0 seconds RetCode: 0 Status: OK