Package: CardinalIO Version: 1.2.1 Command: F:\biocbuild\bbs-3.19-bioc\R\bin\R.exe CMD check --no-multiarch --install=check:CardinalIO.install-out.txt --library=F:\biocbuild\bbs-3.19-bioc\R\library --no-vignettes --timings CardinalIO_1.2.1.tar.gz StartedAt: 2024-06-26 23:44:42 -0400 (Wed, 26 Jun 2024) EndedAt: 2024-06-26 23:46:32 -0400 (Wed, 26 Jun 2024) EllapsedTime: 110.3 seconds RetCode: 0 Status: OK CheckDir: CardinalIO.Rcheck Warnings: 0