Package: Cardinal Version: 3.6.5 Command: chmod a+r Cardinal -R && E:\biocbuild\bbs-3.19-bioc\R\bin\R.exe CMD build --keep-empty-dirs --no-resave-data Cardinal StartedAt: 2024-10-16 18:01:58 -0400 (Wed, 16 Oct 2024) EndedAt: 2024-10-16 18:06:33 -0400 (Wed, 16 Oct 2024) EllapsedTime: 274.9 seconds RetCode: 0 Status: OK PackageFile: Cardinal_3.6.5.tar.gz PackageFileSize: 1.771 MiB