Package: Cardinal Version: 3.6.2 Command: F:\biocbuild\bbs-3.19-bioc\R\bin\R.exe CMD INSTALL Cardinal StartedAt: 2024-06-26 16:16:50 -0400 (Wed, 26 Jun 2024) EndedAt: 2024-06-26 16:17:44 -0400 (Wed, 26 Jun 2024) EllapsedTime: 54.2 seconds RetCode: 0 Status: OK