Package: Cardinal Version: 3.6.2 Command: F:\biocbuild\bbs-3.19-bioc\R\bin\R.exe CMD check --no-multiarch --install=check:Cardinal.install-out.txt --library=F:\biocbuild\bbs-3.19-bioc\R\library --no-vignettes --timings Cardinal_3.6.2.tar.gz StartedAt: 2024-06-26 23:44:32 -0400 (Wed, 26 Jun 2024) EndedAt: 2024-06-26 23:49:46 -0400 (Wed, 26 Jun 2024) EllapsedTime: 313.8 seconds RetCode: 0 Status: OK CheckDir: Cardinal.Rcheck Warnings: 0