Package: Cardinal Version: 3.6.2 Command: rm -rf Cardinal.buildbin-libdir && mkdir Cardinal.buildbin-libdir && F:\biocbuild\bbs-3.19-bioc\R\bin\R.exe CMD INSTALL --build --library=Cardinal.buildbin-libdir Cardinal_3.6.2.tar.gz StartedAt: 2024-06-27 07:56:41 -0400 (Thu, 27 Jun 2024) EndedAt: 2024-06-27 07:57:43 -0400 (Thu, 27 Jun 2024) EllapsedTime: 62.2 seconds RetCode: 0 Status: OK PackageFile: Cardinal_3.6.2.zip PackageFileSize: 3.095 MiB