Package: Cardinal Version: 3.6.5 Command: rm -rf Cardinal.buildbin-libdir && mkdir Cardinal.buildbin-libdir && /Users/biocbuild/BBS/utils/build-universal.sh Cardinal_3.6.5.tar.gz /Library/Frameworks/R.framework/Resources/bin/R Cardinal.buildbin-libdir StartedAt: 2024-10-18 17:38:45 -0400 (Fri, 18 Oct 2024) EndedAt: 2024-10-18 17:39:16 -0400 (Fri, 18 Oct 2024) EllapsedTime: 30.5 seconds RetCode: 0 Status: OK PackageFile: Cardinal_3.6.5.tgz PackageFileSize: 6.039 MiB