Package: Cardinal Version: 3.6.5 Maintainer: Kylie Ariel Bemis MaintainerEmail: k.bemis at northeastern.edu git_url: https://git.bioconductor.org/packages/Cardinal git_branch: RELEASE_3_19 git_last_commit: eb8214d git_last_commit_date: 2024-08-09 13:15:09 -0400 (Fri, 09 Aug 2024)