Package: CancerInSilico Version: 2.24.0 Command: E:\biocbuild\bbs-3.19-bioc\R\bin\R.exe CMD check --no-multiarch --install=check:CancerInSilico.install-out.txt --library=E:\biocbuild\bbs-3.19-bioc\R\library --no-vignettes --timings CancerInSilico_2.24.0.tar.gz StartedAt: 2024-10-16 23:38:48 -0400 (Wed, 16 Oct 2024) EndedAt: 2024-10-16 23:41:18 -0400 (Wed, 16 Oct 2024) EllapsedTime: 150.4 seconds RetCode: 0 Status: WARNINGS CheckDir: CancerInSilico.Rcheck Warnings: 1