Package: CancerInSilico Version: 2.24.0 Command: rm -rf CancerInSilico.buildbin-libdir && mkdir CancerInSilico.buildbin-libdir && E:\biocbuild\bbs-3.19-bioc\R\bin\R.exe CMD INSTALL --build --library=CancerInSilico.buildbin-libdir CancerInSilico_2.24.0.tar.gz StartedAt: 2024-10-17 07:28:40 -0400 (Thu, 17 Oct 2024) EndedAt: 2024-10-17 07:31:47 -0400 (Thu, 17 Oct 2024) EllapsedTime: 186.7 seconds RetCode: 0 Status: OK PackageFile: CancerInSilico_2.24.0.zip PackageFileSize: 2.416 MiB