Package: CancerInSilico Version: 2.24.0 Command: F:\biocbuild\bbs-3.19-bioc\R\bin\R.exe CMD INSTALL CancerInSilico StartedAt: 2024-06-26 15:40:47 -0400 (Wed, 26 Jun 2024) EndedAt: 2024-06-26 15:42:48 -0400 (Wed, 26 Jun 2024) EllapsedTime: 120.7 seconds RetCode: 0 Status: OK