Package: CancerInSilico Version: 2.24.0 Command: chmod a+r CancerInSilico -R && F:\biocbuild\bbs-3.19-bioc\R\bin\R.exe CMD build --keep-empty-dirs --no-resave-data CancerInSilico StartedAt: 2024-06-26 17:36:31 -0400 (Wed, 26 Jun 2024) EndedAt: 2024-06-26 17:38:48 -0400 (Wed, 26 Jun 2024) EllapsedTime: 136.7 seconds RetCode: 0 Status: OK PackageFile: CancerInSilico_2.24.0.tar.gz PackageFileSize: 1.761 MiB