Package: CancerInSilico Version: 2.24.0 Command: rm -rf CancerInSilico.buildbin-libdir && mkdir CancerInSilico.buildbin-libdir && F:\biocbuild\bbs-3.19-bioc\R\bin\R.exe CMD INSTALL --build --library=CancerInSilico.buildbin-libdir CancerInSilico_2.24.0.tar.gz StartedAt: 2024-06-27 07:56:34 -0400 (Thu, 27 Jun 2024) EndedAt: 2024-06-27 07:58:55 -0400 (Thu, 27 Jun 2024) EllapsedTime: 140.3 seconds RetCode: 0 Status: OK PackageFile: CancerInSilico_2.24.0.zip PackageFileSize: 2.419 MiB