Package: CancerInSilico Version: 2.24.0 Command: /home/biocbuild/bbs-3.19-bioc/R/bin/R CMD build --keep-empty-dirs --no-resave-data CancerInSilico StartedAt: 2024-10-16 17:29:34 -0400 (Wed, 16 Oct 2024) EndedAt: 2024-10-16 17:29:44 -0400 (Wed, 16 Oct 2024) EllapsedTime: 10.0 seconds RetCode: 1 Status: ERROR PackageFile: None PackageFileSize: NA