Package: CancerInSilico Version: 2.24.0 Command: rm -rf CancerInSilico.buildbin-libdir && mkdir CancerInSilico.buildbin-libdir && /Users/biocbuild/BBS/utils/build-universal.sh CancerInSilico_2.24.0.tar.gz /Library/Frameworks/R.framework/Resources/bin/R CancerInSilico.buildbin-libdir StartedAt: 2024-10-17 15:46:59 -0400 (Thu, 17 Oct 2024) EndedAt: 2024-10-17 15:49:25 -0400 (Thu, 17 Oct 2024) EllapsedTime: 145.6 seconds RetCode: 0 Status: OK PackageFile: CancerInSilico_2.24.0.tgz PackageFileSize: 2.753 MiB