Package: CancerInSilico Version: 2.24.0 Command: /Library/Frameworks/R.framework/Resources/bin/R CMD check --install=check:CancerInSilico.install-out.txt --library=/Library/Frameworks/R.framework/Resources/library --no-vignettes --timings CancerInSilico_2.24.0.tar.gz StartedAt: 2024-06-09 19:13:27 -0400 (Sun, 09 Jun 2024) EndedAt: 2024-06-09 19:14:07 -0400 (Sun, 09 Jun 2024) EllapsedTime: 40.4 seconds RetCode: 0 Status: WARNINGS CheckDir: CancerInSilico.Rcheck Warnings: 1