Package: CancerInSilico Version: 2.24.0 Command: /Library/Frameworks/R.framework/Resources/bin/R CMD build --keep-empty-dirs --no-resave-data CancerInSilico StartedAt: 2024-06-09 19:02:34 -0400 (Sun, 09 Jun 2024) EndedAt: 2024-06-09 19:03:01 -0400 (Sun, 09 Jun 2024) EllapsedTime: 27.4 seconds RetCode: 1 Status: ERROR PackageFile: None PackageFileSize: NA