Package: CancerInSilico Version: 2.24.0 Command: /Library/Frameworks/R.framework/Resources/bin/R CMD build --keep-empty-dirs --no-resave-data CancerInSilico StartedAt: 2024-10-16 20:51:47 -0400 (Wed, 16 Oct 2024) EndedAt: 2024-10-16 20:52:10 -0400 (Wed, 16 Oct 2024) EllapsedTime: 23.0 seconds RetCode: 1 Status: ERROR PackageFile: None PackageFileSize: NA