Package: CancerInSilico Version: 2.24.0 Maintainer: Thomas D. Sherman MaintainerEmail: tomsherman159 at gmail.com git_url: https://git.bioconductor.org/packages/CancerInSilico git_branch: RELEASE_3_19 git_last_commit: 0549176 git_last_commit_date: 2024-04-30 10:54:04 -0400 (Tue, 30 Apr 2024)