Package: CaMutQC Version: 1.0.0 Command: E:\biocbuild\bbs-3.19-bioc\R\bin\R.exe CMD INSTALL CaMutQC StartedAt: 2024-10-16 17:01:28 -0400 (Wed, 16 Oct 2024) EndedAt: 2024-10-16 17:02:11 -0400 (Wed, 16 Oct 2024) EllapsedTime: 42.8 seconds RetCode: 0 Status: OK