Package: CaMutQC Version: 1.0.0 Command: rm -rf CaMutQC.buildbin-libdir && mkdir CaMutQC.buildbin-libdir && E:\biocbuild\bbs-3.19-bioc\R\bin\R.exe CMD INSTALL --build --library=CaMutQC.buildbin-libdir CaMutQC_1.0.0.tar.gz StartedAt: 2024-10-17 07:28:33 -0400 (Thu, 17 Oct 2024) EndedAt: 2024-10-17 07:29:20 -0400 (Thu, 17 Oct 2024) EllapsedTime: 46.3 seconds RetCode: 0 Status: OK PackageFile: CaMutQC_1.0.0.zip PackageFileSize: 4.124 MiB