Package: CaMutQC Version: 1.0.0 Command: /Library/Frameworks/R.framework/Resources/bin/R CMD build --keep-empty-dirs --no-resave-data CaMutQC StartedAt: 2024-10-16 17:40:50 -0400 (Wed, 16 Oct 2024) EndedAt: 2024-10-16 17:44:05 -0400 (Wed, 16 Oct 2024) EllapsedTime: 194.8 seconds RetCode: 0 Status: OK PackageFile: CaMutQC_1.0.0.tar.gz PackageFileSize: 4.857 MiB