Package: CaMutQC Version: 1.0.0 Command: rm -rf CaMutQC.buildbin-libdir && mkdir CaMutQC.buildbin-libdir && /Users/biocbuild/BBS/utils/build-universal.sh CaMutQC_1.0.0.tar.gz /Library/Frameworks/R.framework/Resources/bin/R CaMutQC.buildbin-libdir StartedAt: 2024-10-17 15:46:51 -0400 (Thu, 17 Oct 2024) EndedAt: 2024-10-17 15:48:04 -0400 (Thu, 17 Oct 2024) EllapsedTime: 72.9 seconds RetCode: 0 Status: OK PackageFile: CaMutQC_1.0.0.tgz PackageFileSize: 4.122 MiB