Package: CaMutQC Version: 1.0.0 Command: /Library/Frameworks/R.framework/Resources/bin/R CMD check --install=check:CaMutQC.install-out.txt --library=/Library/Frameworks/R.framework/Resources/library --no-vignettes --timings CaMutQC_1.0.0.tar.gz StartedAt: 2024-06-10 09:31:43 -0400 (Mon, 10 Jun 2024) EndedAt: 2024-06-10 09:36:26 -0400 (Mon, 10 Jun 2024) EllapsedTime: 283.1 seconds RetCode: 0 Status: OK CheckDir: CaMutQC.Rcheck Warnings: 0