Package: CaMutQC Version: 1.0.0 Command: rm -rf CaMutQC.buildbin-libdir && mkdir CaMutQC.buildbin-libdir && /Users/biocbuild/BBS/utils/build-universal.sh CaMutQC_1.0.0.tar.gz /Library/Frameworks/R.framework/Resources/bin/R CaMutQC.buildbin-libdir StartedAt: 2024-06-11 10:26:13 -0400 (Tue, 11 Jun 2024) EndedAt: 2024-06-11 10:27:10 -0400 (Tue, 11 Jun 2024) EllapsedTime: 56.5 seconds RetCode: 0 Status: OK PackageFile: CaMutQC_1.0.0.tgz PackageFileSize: 4.121 MiB