Package: CaMutQC Version: 1.0.0 Command: /Library/Frameworks/R.framework/Resources/bin/R CMD INSTALL CaMutQC StartedAt: 2024-10-16 17:59:54 -0400 (Wed, 16 Oct 2024) EndedAt: 2024-10-16 18:00:28 -0400 (Wed, 16 Oct 2024) EllapsedTime: 34.1 seconds RetCode: 0 Status: OK