Package: CTexploreR Version: 1.0.0 Command: chmod a+r CTexploreR -R && E:\biocbuild\bbs-3.19-bioc\R\bin\R.exe CMD build --keep-empty-dirs --no-resave-data CTexploreR StartedAt: 2024-10-16 18:27:56 -0400 (Wed, 16 Oct 2024) EndedAt: 2024-10-16 18:39:22 -0400 (Wed, 16 Oct 2024) EllapsedTime: 685.4 seconds RetCode: 0 Status: OK PackageFile: CTexploreR_1.0.0.tar.gz PackageFileSize: 2.034 MiB