Package: CTexploreR Version: 1.0.0 Command: rm -rf CTexploreR.buildbin-libdir && mkdir CTexploreR.buildbin-libdir && E:\biocbuild\bbs-3.19-bioc\R\bin\R.exe CMD INSTALL --build --library=CTexploreR.buildbin-libdir CTexploreR_1.0.0.tar.gz StartedAt: 2024-10-17 07:37:13 -0400 (Thu, 17 Oct 2024) EndedAt: 2024-10-17 07:40:31 -0400 (Thu, 17 Oct 2024) EllapsedTime: 197.8 seconds RetCode: 0 Status: OK PackageFile: CTexploreR_1.0.0.zip PackageFileSize: 2.111 MiB