Package: CTexploreR Version: 1.0.0 Command: /Library/Frameworks/R.framework/Resources/bin/R CMD INSTALL CTexploreR StartedAt: 2024-10-16 15:51:52 -0400 (Wed, 16 Oct 2024) EndedAt: 2024-10-16 15:53:23 -0400 (Wed, 16 Oct 2024) EllapsedTime: 90.8 seconds RetCode: 0 Status: OK