Package: CTexploreR Version: 1.0.0 Command: rm -rf CTexploreR.buildbin-libdir && mkdir CTexploreR.buildbin-libdir && /Users/biocbuild/BBS/utils/build-universal.sh CTexploreR_1.0.0.tar.gz /Library/Frameworks/R.framework/Resources/bin/R CTexploreR.buildbin-libdir StartedAt: 2024-10-17 15:57:06 -0400 (Thu, 17 Oct 2024) EndedAt: 2024-10-17 15:58:36 -0400 (Thu, 17 Oct 2024) EllapsedTime: 90.3 seconds RetCode: 0 Status: OK PackageFile: CTexploreR_1.0.0.tgz PackageFileSize: 3.681 MiB