Package: CTexploreR Version: 1.0.0 Command: /Library/Frameworks/R.framework/Resources/bin/R CMD check --install=check:CTexploreR.install-out.txt --library=/Library/Frameworks/R.framework/Resources/library --no-vignettes --timings CTexploreR_1.0.0.tar.gz StartedAt: 2024-06-09 19:44:19 -0400 (Sun, 09 Jun 2024) EndedAt: 2024-06-09 19:55:58 -0400 (Sun, 09 Jun 2024) EllapsedTime: 699.2 seconds RetCode: 0 Status: OK CheckDir: CTexploreR.Rcheck Warnings: 0