Package: CTexploreR Version: 1.0.0 Command: /Library/Frameworks/R.framework/Resources/bin/R CMD INSTALL CTexploreR StartedAt: 2024-10-16 17:00:44 -0400 (Wed, 16 Oct 2024) EndedAt: 2024-10-16 17:01:29 -0400 (Wed, 16 Oct 2024) EllapsedTime: 45.8 seconds RetCode: 0 Status: OK