Package: CTexploreR Version: 1.0.0 Command: /Library/Frameworks/R.framework/Resources/bin/R CMD build --keep-empty-dirs --no-resave-data CTexploreR StartedAt: 2024-10-16 22:29:52 -0400 (Wed, 16 Oct 2024) EndedAt: 2024-10-16 22:37:00 -0400 (Wed, 16 Oct 2024) EllapsedTime: 427.7 seconds RetCode: 0 Status: OK PackageFile: CTexploreR_1.0.0.tar.gz PackageFileSize: 3.619 MiB