Package: CTdata Version: 1.4.0 Command: /Library/Frameworks/R.framework/Resources/bin/R CMD check --install=check:CTdata.install-out.txt --library=/Library/Frameworks/R.framework/Resources/library --no-vignettes --timings CTdata_1.4.0.tar.gz StartedAt: 2024-10-17 03:33:45 -0400 (Thu, 17 Oct 2024) EndedAt: 2024-10-17 03:38:28 -0400 (Thu, 17 Oct 2024) EllapsedTime: 283.4 seconds RetCode: 0 Status: OK CheckDir: CTdata.Rcheck Warnings: 0